BEGIN:VCALENDAR
VERSION:2.0
PRODID:-//Česká diabetologická společnost ČLS JEP - ECPv6.15.20//NONSGML v1.0//EN
CALSCALE:GREGORIAN
METHOD:PUBLISH
X-ORIGINAL-URL:https://www.diab.cz
X-WR-CALDESC:Akce na Česká diabetologická společnost ČLS JEP
REFRESH-INTERVAL;VALUE=DURATION:PT1H
X-Robots-Tag:noindex
X-PUBLISHED-TTL:PT1H
BEGIN:VTIMEZONE
TZID:Europe/Prague
BEGIN:DAYLIGHT
TZOFFSETFROM:+0100
TZOFFSETTO:+0200
TZNAME:CEST
DTSTART:20250330T010000
END:DAYLIGHT
BEGIN:STANDARD
TZOFFSETFROM:+0200
TZOFFSETTO:+0100
TZNAME:CET
DTSTART:20251026T010000
END:STANDARD
BEGIN:DAYLIGHT
TZOFFSETFROM:+0100
TZOFFSETTO:+0200
TZNAME:CEST
DTSTART:20260329T010000
END:DAYLIGHT
BEGIN:STANDARD
TZOFFSETFROM:+0200
TZOFFSETTO:+0100
TZNAME:CET
DTSTART:20261025T010000
END:STANDARD
BEGIN:DAYLIGHT
TZOFFSETFROM:+0100
TZOFFSETTO:+0200
TZNAME:CEST
DTSTART:20270328T010000
END:DAYLIGHT
BEGIN:STANDARD
TZOFFSETFROM:+0200
TZOFFSETTO:+0100
TZNAME:CET
DTSTART:20271031T010000
END:STANDARD
END:VTIMEZONE
BEGIN:VEVENT
DTSTART;TZID=Europe/Prague:20260114T190000
DTEND;TZID=Europe/Prague:20260114T203000
DTSTAMP:20260421T203221
CREATED:20251209T142252Z
LAST-MODIFIED:20260113T151347Z
UID:10000028-1768417200-1768422600@www.diab.cz
SUMMARY:Bálintovské skupiny v roce 2026
DESCRIPTION:TERMÍNY V ROCE 2026 \n14. ledna 2026\, 19:00–20:30\n11. března 2026\, 19:00–20:30\n13. května 2026\, 19:00–20:30\n9. září 2026\, 19:00–20:30\n11. listopadu 2026\, 19:00–20:30 \nMÍSTO ONLINE SETKÁNÍ: \nPřipojte se prostřednictvím následujícího odkazu (doporučujeme přihlášení 5–10 minut předem): Join Zoom Meeting https://zoom.us/j/95495267154?pwd=VvYf91sujYjxW7VJ3u3cnuR7NtvNrW.1\nMeeting ID: 954 9526 7154\nPasscode: 678240 \nNávod k přihlášení naleznete ZDE. \nPROGRAM: \nÚvod a organizační informace – Představení pravidel skupiny – Sdílení kazuistik ze skupiny – Sdílení a skupinová reflexe pod vedením facilitátora – Shrnutí a závěrečné zhodnocení \nKaždá z akcí je ohodnocena 2 kredity – při splnění podmínky osobní účasti po celou dobu trvání akce a uvedení jména\, příjmení a e-mailové adresy do chatu. \nOdborný garant: prof. MUDr. Martin Prázný\, CSc.\, Ph.D. \nVzdělávací akce jsou pořádány dle Stavovského předpisu ČLK č. 16 a ohodnoceny kredity do systému celoživotního vzdělávání
URL:https://www.diab.cz/akce/balintovske-skupiny-v-roce-2026/2026-01-14/
CATEGORIES:Obecné,Psychologická sekce
ATTACH;FMTTYPE=image/jpeg:https://www.diab.cz/wp-content/uploads/2025/12/online-meeting.jpg
LOCATION:https://zoom.us/j/95495267154?pwd=VvYf91sujYjxW7VJ3u3cnuR7NtvNrW.1
END:VEVENT
BEGIN:VEVENT
DTSTART;VALUE=DATE:20260116
DTEND;VALUE=DATE:20260117
DTSTAMP:20260421T203221
CREATED:20251216T100222Z
LAST-MODIFIED:20251216T100230Z
UID:10000035-1768521600-1768607999@www.diab.cz
SUMMARY:Léčba diabetického onemocnění ledvin – od nových léků k transplantaci
DESCRIPTION:Vážená paní doktorko\, vážený pane doktore\, \nKlinika diabetologie IKEM si vás dovoluje pozvat na seminář Léčba diabetického onemocnění ledvin. \nSeminář je pořádán pod záštitou odborného garanta MUDr. Radomíry Kožnarové\, CSc.\, vedoucí Klinického oddělení Kliniky diabetologie IKEM Praha.
URL:https://www.diab.cz/akce/lecba-diabetickeho-onemocneni-ledvin-od-novych-leku-k-transplantaci/
LOCATION:EA Hotel Tereziánský Dvůr\, Jana Koziny 336\, Hradec Králové\, Czech Republic
CATEGORIES:Diabetes a těhotenství,Obecné
ATTACH;FMTTYPE=image/jpeg:https://www.diab.cz/wp-content/uploads/2025/12/hradec.jpg
ORGANIZER;CN="Centrum diabetologie IKEM ve spolupr%C3%A1ci s Podiatrickou sekc%C3%AD %C4%8Cesk%C3%A9 diabetologick%C3%A9 spole%C4%8Dnosti %C4%8CLS JEP":MAILTO:podiatrie@ikem.cz
END:VEVENT
END:VCALENDAR