BEGIN:VCALENDAR
VERSION:2.0
PRODID:-//Česká diabetologická společnost ČLS JEP - ECPv6.15.20//NONSGML v1.0//EN
CALSCALE:GREGORIAN
METHOD:PUBLISH
X-WR-CALNAME:Česká diabetologická společnost ČLS JEP
X-ORIGINAL-URL:https://www.diab.cz
X-WR-CALDESC:Akce na Česká diabetologická společnost ČLS JEP
REFRESH-INTERVAL;VALUE=DURATION:PT1H
X-Robots-Tag:noindex
X-PUBLISHED-TTL:PT1H
BEGIN:VTIMEZONE
TZID:Europe/Prague
BEGIN:DAYLIGHT
TZOFFSETFROM:+0100
TZOFFSETTO:+0200
TZNAME:CEST
DTSTART:20240331T010000
END:DAYLIGHT
BEGIN:STANDARD
TZOFFSETFROM:+0200
TZOFFSETTO:+0100
TZNAME:CET
DTSTART:20241027T010000
END:STANDARD
BEGIN:DAYLIGHT
TZOFFSETFROM:+0100
TZOFFSETTO:+0200
TZNAME:CEST
DTSTART:20250330T010000
END:DAYLIGHT
BEGIN:STANDARD
TZOFFSETFROM:+0200
TZOFFSETTO:+0100
TZNAME:CET
DTSTART:20251026T010000
END:STANDARD
BEGIN:DAYLIGHT
TZOFFSETFROM:+0100
TZOFFSETTO:+0200
TZNAME:CEST
DTSTART:20260329T010000
END:DAYLIGHT
BEGIN:STANDARD
TZOFFSETFROM:+0200
TZOFFSETTO:+0100
TZNAME:CET
DTSTART:20261025T010000
END:STANDARD
END:VTIMEZONE
BEGIN:VEVENT
DTSTART;VALUE=DATE:20251104
DTEND;VALUE=DATE:20251105
DTSTAMP:20260422T012451
CREATED:20250321T163227Z
LAST-MODIFIED:20250606T111946Z
UID:10000009-1762214400-1762300799@www.diab.cz
SUMMARY:Glukózové senzory v léčbě diabetu
DESCRIPTION:
URL:https://www.diab.cz/akce/glukozove-senzory-v-lecbe-diabetu-3/
LOCATION:Hotel Flora\, Krapkova 439/34\, Olomouc
CATEGORIES:Obecné,Technologická sekce
ATTACH;FMTTYPE=image/jpeg:https://www.diab.cz/wp-content/uploads/2025/03/2715dcc929f20d7a370d4ad2dcaea2e6-1.jpg
END:VEVENT
BEGIN:VEVENT
DTSTART;VALUE=DATE:20251023
DTEND;VALUE=DATE:20251024
DTSTAMP:20260422T012451
CREATED:20250321T162724Z
LAST-MODIFIED:20250606T112047Z
UID:10000008-1761177600-1761263999@www.diab.cz
SUMMARY:Screening rizika syndromu diabetické nohy
DESCRIPTION:čas konání: 8.00 hod (dopolední kurz) / 13.15 hod (odpolední kurz)
URL:https://www.diab.cz/akce/screening-rizika-syndromu-diabeticke-nohy-2/
LOCATION:IKEM • U2\, 3.p.\, budova A\, Vídeňská 1958/9\, Praha 4
CATEGORIES:Obecné,Podiatrická sekce
ATTACH;FMTTYPE=image/jpeg:https://www.diab.cz/wp-content/uploads/2025/03/4825d21241a6d29fbc6043745749e194.jpg
END:VEVENT
BEGIN:VEVENT
DTSTART;VALUE=DATE:20251002
DTEND;VALUE=DATE:20251005
DTSTAMP:20260422T012451
CREATED:20250321T162505Z
LAST-MODIFIED:20250606T112116Z
UID:10000007-1759363200-1759622399@www.diab.cz
SUMMARY:Technologie v diabetologii
DESCRIPTION:
URL:https://www.diab.cz/akce/technologie-v-diabetologii/
LOCATION:Parkhotel Congress Center Plzeň\, U Borského parku 31\, Plzeň
CATEGORIES:Obecné,Technologická sekce
ATTACH;FMTTYPE=image/jpeg:https://www.diab.cz/wp-content/uploads/2025/03/db2553f13886f2ba4223928e55d31459.jpg
END:VEVENT
BEGIN:VEVENT
DTSTART;VALUE=DATE:20250915
DTEND;VALUE=DATE:20250920
DTSTAMP:20260422T012451
CREATED:20250526T140204Z
LAST-MODIFIED:20250606T112226Z
UID:10000017-1757894400-1758326399@www.diab.cz
SUMMARY:61st EASD Annual Meeting
DESCRIPTION:Výroční zasedání EASD je vynikající příležitostí\, jak se seznámit s nejnovějším vývojem v oblasti diabetu. Na programu je převratný základní výzkum\, nejnovější výsledky klinických studií a podrobné odborné debaty. Setkejte se s kolegy z celého světa a zúčastněte se klíčových diskusí\, které budou určovat budoucnost výzkumu a péče o diabetiky.
URL:https://www.diab.cz/akce/61st-easd-annual-meeting/
LOCATION:VIECON – Vienna Congress & Convention Center (Messe Vienna)\, Messeplatz 1\, 1021 Vienna\, Austria
CATEGORIES:Obecné
ATTACH;FMTTYPE=image/jpeg:https://www.diab.cz/wp-content/uploads/2025/05/easd_2025.jpg
END:VEVENT
BEGIN:VEVENT
DTSTART;VALUE=DATE:20250912
DTEND;VALUE=DATE:20250915
DTSTAMP:20260422T012451
CREATED:20250526T141759Z
LAST-MODIFIED:20250606T112322Z
UID:10000019-1757635200-1757894399@www.diab.cz
SUMMARY:DFSG 2025
DESCRIPTION:
URL:https://www.diab.cz/akce/dfsg-2025/
LOCATION:Don Giovanni Hotel Prague\, Vinohradská 2733/157a\, Praha 3-Žižkov\, Praha\, Hlavní město Praha\, 130 00\, Czech Republic
CATEGORIES:Obecné
ATTACH;FMTTYPE=image/jpeg:https://www.diab.cz/wp-content/uploads/2025/05/dfsg_2025.jpg
END:VEVENT
BEGIN:VEVENT
DTSTART;VALUE=DATE:20250911
DTEND;VALUE=DATE:20250912
DTSTAMP:20260422T012451
CREATED:20250526T125817Z
LAST-MODIFIED:20250606T112414Z
UID:10000014-1757548800-1757635199@www.diab.cz
SUMMARY:Syndrom diabetické nohy – Aktuality 2025
DESCRIPTION:Vážení kolegové\, \ndovolujeme si Vás pozvat na konferenci „Syndrom diabetické nohy – AKTUALITY 2025“\, pořádanou Podiatrickou sekcí České diabetologické společnosti (ČDS) ve spolupráci s ČDS. Tato akce se koná jako presympozium evropské konference Diabetic Foot Study Group\, a to 11. září 2025 v hotelu Don Giovanni v Praze. \nSyndrom diabetické nohy (SDN) je závažnou komplikací diabetu\, která pacienty značně handicapuje\, zvyšuje jejich předčasnou mortalitu a je mimo jiné také hlavní příčinou hospitalizace diabetiků. Na péči o pacienty se SDN se podílí řada odborníků. Proto konferenci pořádáme ve spolupráci s dalšími odbornými společnostmi – Českou společností pro léčbu rány\, Českou angiologickou společností\, Českou podiatrickou společností\, Českou chirurgickou společností a dalšími odbornými organizacemi. \nProgram konference bude zaměřen na aktuality v léčbě ran\, na chirurgickoortopedické přístupy v managementu SDN\, na význam kompenzace diabetu i léčby obezity u pacientů se SDN a také na novinky týkající se angiologie\, infekce\, kostního metabolismu\, biomechaniky\, rehabilitace\, psychosociální problematiky apod. Součástí programu – moderované posterové sekce – může být i Vaše sdělení. Abstrakty přijímáme až do 30. června. \nTěšíme se na účast lékařů a sester nejrůznějších oborů zabývajících se léčbou ran a péčí o diabetiky. Konference je určena pro všechny diabetology\, podiatry\, angiology\, (intervenční) radiology\, cévní i všeobecné chirurgy\, ortopedy\, ortoprotetiky\, rehabilitační pracovníky\, internisty\, dermatology\, mikrobiology\, praktické lékaře\, či odborné pedikéry\, podiatrické a všeobecné sestry a další odborníky se zájmem o problematiku SDN. \nZa výbor Podiatrické sekce ČDS ČLS JEP \ndoc. MUDr. Vladimíra Fejfarová\, Ph.D.\npředsedkyně výboru Podiatrické sekce ČDS\nčlenka výboru ČDS ČLS JEP\nmístopředsedkyně výboru České společnosti pro léčbu rány\nčlenka výboru Diabetic Foot Study Group \nprof. MUDr. Alexandra Jirkovská\, CSc.\nčlenka výboru Podiatrické sekce ČDS\nčlenka výboru ČDS ČLS JEP
URL:https://www.diab.cz/akce/syndrom-diabeticke-nohy-aktuality-2025/
LOCATION:Don Giovanni Hotel Prague\, Vinohradská 2733/157a\, Praha 3-Žižkov\, Praha\, Hlavní město Praha\, 130 00\, Czech Republic
CATEGORIES:Obecné,Podiatrická sekce
ATTACH;FMTTYPE=image/jpeg:https://www.diab.cz/wp-content/uploads/2025/05/event-landing.jpg
ORGANIZER;CN="Podiatrick%C3%A1 sekce %C4%8Cesk%C3%A9 diabetologick%C3%A9 spole%C4%8Dnosti %C4%8CLS JEP":MAILTO:podisekce@email.cz
END:VEVENT
BEGIN:VEVENT
DTSTART;VALUE=DATE:20250909
DTEND;VALUE=DATE:20250910
DTSTAMP:20260422T012451
CREATED:20250321T155056Z
LAST-MODIFIED:20250606T112447Z
UID:10000006-1757376000-1757462399@www.diab.cz
SUMMARY:Glukózové senzory v léčbě diabetu
DESCRIPTION:
URL:https://www.diab.cz/akce/glukozove-senzory-v-lecbe-diabetu-2/
LOCATION:3. Interní klinika VFN\, Charvátův sál\, U Nemocnice 1\, Praha 2
CATEGORIES:Obecné,Technologická sekce
ATTACH;FMTTYPE=image/jpeg:https://www.diab.cz/wp-content/uploads/2025/03/2715dcc929f20d7a370d4ad2dcaea2e6-1.jpg
END:VEVENT
BEGIN:VEVENT
DTSTART;VALUE=DATE:20250905
DTEND;VALUE=DATE:20250906
DTSTAMP:20260422T012451
CREATED:20250430T081103Z
LAST-MODIFIED:20250606T112503Z
UID:10000012-1757030400-1757116799@www.diab.cz
SUMMARY:XI. ročník mezioborového sympozia DM – Prevence a léčba diabetických komplikací napříč generacemi
DESCRIPTION:Odborný garant sympozia:\nprof. MUDr. Milan Kvapil\, CSc.\, MBA. Geriatrická interní klinika 2. LF UK a FN Motol\ndoc. MUDr. Alena Šmahelová\, Ph.D.\, vedoucí Subkatedry diabetologie\, III. interní gerontometabolická klinika LF UK a FN Hradec Králové
URL:https://www.diab.cz/akce/xi-rocnik-mezioboroveho-sympozia-dm-prevence-a-lecba-diabetickych-komplikaci-napric-generacemi/
LOCATION:Hotel Nové Adalbertinum\, Velké náměstí 22/32\, Hradec Králové\, Královéhradecký kraj\, 500 03\, Czech Republic
CATEGORIES:Obecné
ATTACH;FMTTYPE=image/jpeg:https://www.diab.cz/wp-content/uploads/2025/04/Diasympo2024_save-the-date.jpg
END:VEVENT
BEGIN:VEVENT
DTSTART;VALUE=DATE:20250624
DTEND;VALUE=DATE:20250628
DTSTAMP:20260422T012451
CREATED:20250526T142408Z
LAST-MODIFIED:20250606T112605Z
UID:10000020-1750723200-1751068799@www.diab.cz
SUMMARY:42nd International Symposium on Diabetes and Nutrition
DESCRIPTION:Vážení kolegové\, \ndovolujeme si Vás pozvat na 42. mezinárodní sympozium o diabetu a výživě (DNSG 2025)\, které se koná 24.-27. června 2025 v Ottawě\, ON\, Kanada. \nSympozium představuje každoroční setkání Studijní skupiny pro diabetes a výživu (DNSG). Chcete-li se o naší studijní skupině dozvědět více\, navštivte naše webové stránky https://dnsg-studygroup.eu. \nNa sympoziu se sejdou mezinárodní vědci (z akademické sféry\, vlády a průmyslu)\, lékaři\, dietologové\, další příbuzní zdravotničtí pracovníci a stážisté\, aby prostřednictvím plenárních přednášek\, panelových diskusí a ústních a posterových prezentací abstraktů představili nejnovější pokroky od základních vědeckých poznatků až po klinické studie v oblasti diabetu a výživy. \nVítáme příspěvky s abstrakty nového výzkumu v oblasti diabetu a výživy. \nSledujte prosím pravidelné aktualizace týkající se vědeckého programu\, registrace a zasílání abstraktů. \nTěšíme se na setkání s vámi v Ottawě! \nS pozdravem\,\nDr. Cyril WC Kendall\, PhD.\nDr. Laura Chiavaroli\, PhD\nDr. John L Sievenpiper\, MD\, PhD\, FRCPC
URL:https://www.diab.cz/akce/42nd-international-symposium-on-diabetes-and-nutrition/
LOCATION:Fairmont Château Laurier\, 1 Rideau St\, Ottawa\, ON\, K1N 8S7\, Ottawa\, Canada
CATEGORIES:Obecné
ATTACH;FMTTYPE=image/jpeg:https://www.diab.cz/wp-content/uploads/2025/05/dnsg_2025.jpg
END:VEVENT
BEGIN:VEVENT
DTSTART;VALUE=DATE:20250620
DTEND;VALUE=DATE:20250624
DTSTAMP:20260422T012451
CREATED:20250526T141036Z
LAST-MODIFIED:20250606T112726Z
UID:10000018-1750377600-1750723199@www.diab.cz
SUMMARY:ADA 2025 - 85th Scientific Sessions of the American Diabetes Association
DESCRIPTION:
URL:https://www.diab.cz/akce/ada-2025-85th-scientific-sessions-of-the-american-diabetes-association/
LOCATION:McCormick Place Convention Center\, 2301 S Martin Luther King Dr\, Chicago\, IL 60616\, United States
CATEGORIES:Obecné
ATTACH;FMTTYPE=image/jpeg:https://www.diab.cz/wp-content/uploads/2025/05/ada_2025.jpg
END:VEVENT
BEGIN:VEVENT
DTSTART;VALUE=DATE:20250619
DTEND;VALUE=DATE:20250620
DTSTAMP:20260422T012451
CREATED:20250321T154740Z
LAST-MODIFIED:20250606T112545Z
UID:10000005-1750291200-1750377599@www.diab.cz
SUMMARY:Screening rizika syndromu diabetické nohy
DESCRIPTION:čas konání: 8.00 hod (dopolední kurz) / 13.15 hod (odpolední kurz)
URL:https://www.diab.cz/akce/screening-rizika-syndromu-diabeticke-nohy/
LOCATION:IKEM • U2\, 3.p.\, budova A\, Vídeňská 1958/9\, Praha 4
CATEGORIES:Obecné,Podiatrická sekce
ATTACH;FMTTYPE=image/jpeg:https://www.diab.cz/wp-content/uploads/2025/03/4825d21241a6d29fbc6043745749e194.jpg
END:VEVENT
BEGIN:VEVENT
DTSTART;VALUE=DATE:20250613
DTEND;VALUE=DATE:20250615
DTSTAMP:20260422T012451
CREATED:20250526T124359Z
LAST-MODIFIED:20250606T112851Z
UID:10000013-1749772800-1749945599@www.diab.cz
SUMMARY:XXV. celostátní diabetologické sympózium
DESCRIPTION:Tuto dnes již tradiční akci založila doc. MUDr. Alena Šmahelová\, Ph.D.\, která celostátní diabetologické symposium pořádala každoročně od roku 1999 v Hradci Králové. V uplynulých letech se vystřídala problematika kardiologická\, neurologická\, chirurgická a další. V rámci programu prezentují aktuální témata experti z oblasti diabetologie\, kteří jsou zárukou vysoké odborné kvality a vždy přitáhnou zájem více než 300 diabetologů z celé České republiky. Na základě již bohaté historie se odborná akce stala uznávanou platformou pro všechny profesionální zájemce o obor diabetologie. Od roku 2014 v této tradici pokračuje Diabetologické centrum III. interní kliniky VFN v Praze\, do roku 2020 v čele s jeho dlouholetým vedoucím prof. MUDr. Janem Škrhou\, DrSc. a od r. 2020 prof. MUDr. Martinem Prázným\, CSc.\, Ph.D.\, FRCP (od roku 2022 předseda České diabetologické společnosti ČLS JEP).
URL:https://www.diab.cz/akce/xxv-celostatni-diabetologicke-sympozium/
LOCATION:Vzdělávací a informační centrum Floret\, Květnové náměstí 391\, Průhonice\, Středočeský\, 252 43\, Czech Republic
CATEGORIES:Obecné
ATTACH;FMTTYPE=image/jpeg:https://www.diab.cz/wp-content/uploads/2025/05/293.jpg
ORGANIZER;CN="Diabetologick%C3%A9 centrum%2C VFN v Praze III. intern%C3%AD klinika":MAILTO:jan.skrha@lf1.cuni.cz
END:VEVENT
BEGIN:VEVENT
DTSTART;VALUE=DATE:20250613
DTEND;VALUE=DATE:20250614
DTSTAMP:20260422T012451
CREATED:20250526T132544Z
LAST-MODIFIED:20250606T112913Z
UID:10000015-1749772800-1749859199@www.diab.cz
SUMMARY:9. Workshop Castování
DESCRIPTION:Komplexní terapie syndromu diabetické nohy se zaměřením na odlehčení\nPraktické aspekty castování\nSpeciální kontaktní fixace (Total Contact Cast – TCC)\nTypy speciálních kontaktních fixací a dlah\, Sarmiento\nProblematika hojení ran se zaměřením na léčbu podtlakem\nPraktická výuka castování
URL:https://www.diab.cz/akce/9-workshop-castovani/
LOCATION:IKEM\, Vídeňská 1958/9\, Praha 4\, Praha\, Hlavní město Praha\, 140 00\, Czech Republic
CATEGORIES:Obecné,Podiatrická sekce
ATTACH;FMTTYPE=image/jpeg:https://www.diab.cz/wp-content/uploads/2025/05/workshop_castovani.jpg
ORGANIZER;CN="Centrum diabetologie IKEM ve spolupr%C3%A1ci s Podiatrickou sekc%C3%AD %C4%8Cesk%C3%A9 diabetologick%C3%A9 spole%C4%8Dnosti %C4%8CLS JEP":MAILTO:podiatrie@ikem.cz
END:VEVENT
BEGIN:VEVENT
DTSTART;VALUE=DATE:20250519
DTEND;VALUE=DATE:20250520
DTSTAMP:20260422T012451
CREATED:20250321T154033Z
LAST-MODIFIED:20250526T122533Z
UID:10000003-1747612800-1747699199@www.diab.cz
SUMMARY:Glukózové senzory v léčbě diabetu
DESCRIPTION:
URL:https://www.diab.cz/akce/glukozove-senzory-v-lecbe-diabetu/
LOCATION:Imperial Hotel Ostrava\, Tyršova 1250\, Ostrava
CATEGORIES:Obecné,Technologická sekce
ATTACH;FMTTYPE=image/jpeg:https://www.diab.cz/wp-content/uploads/2025/03/2715dcc929f20d7a370d4ad2dcaea2e6.jpg
END:VEVENT
BEGIN:VEVENT
DTSTART;VALUE=DATE:20250409
DTEND;VALUE=DATE:20250413
DTSTAMP:20260422T012451
CREATED:20250319T125953Z
LAST-MODIFIED:20250522T074550Z
UID:10000001-1744156800-1744502399@www.diab.cz
SUMMARY:61. diabetologické dny Luhačovice
DESCRIPTION:Ceny ČDS za rok 2024 – informace ke stažení ZDE
URL:https://www.diab.cz/akce/61-diabetologicke-dny-luhacovice/
LOCATION:Kulturní a kongresové centrum ELEKTRA\, Masarykova 950\,\, Luhačovice\, 763 26\, Czech Republic
CATEGORIES:Obecné,Technologická sekce
ATTACH;FMTTYPE=image/jpeg:https://www.diab.cz/wp-content/uploads/2025/03/278456fb33384e586d66c5cd299dcc29.jpg
END:VEVENT
BEGIN:VEVENT
DTSTART;VALUE=DATE:20250321
DTEND;VALUE=DATE:20250323
DTSTAMP:20260422T012451
CREATED:20250321T152953Z
LAST-MODIFIED:20250526T122555Z
UID:10000002-1742515200-1742687999@www.diab.cz
SUMMARY:XXIX. ročník postgraduálního diabetologického semináře Brno 2025
DESCRIPTION:Pozvánka: ZDE
URL:https://www.diab.cz/akce/xxix-rocnik-postgradualniho-diabetologickeho-seminare-brno-2025/
LOCATION:QUALITY HOTEL Brno\, Křížkovského 20\, Brno
CATEGORIES:Obecné
END:VEVENT
END:VCALENDAR