BEGIN:VCALENDAR
VERSION:2.0
PRODID:-//Česká diabetologická společnost ČLS JEP - ECPv6.15.20//NONSGML v1.0//EN
CALSCALE:GREGORIAN
METHOD:PUBLISH
X-ORIGINAL-URL:https://www.diab.cz
X-WR-CALDESC:Akce na Česká diabetologická společnost ČLS JEP
REFRESH-INTERVAL;VALUE=DURATION:PT1H
X-Robots-Tag:noindex
X-PUBLISHED-TTL:PT1H
BEGIN:VTIMEZONE
TZID:Europe/Prague
BEGIN:DAYLIGHT
TZOFFSETFROM:+0100
TZOFFSETTO:+0200
TZNAME:CEST
DTSTART:20240331T010000
END:DAYLIGHT
BEGIN:STANDARD
TZOFFSETFROM:+0200
TZOFFSETTO:+0100
TZNAME:CET
DTSTART:20241027T010000
END:STANDARD
BEGIN:DAYLIGHT
TZOFFSETFROM:+0100
TZOFFSETTO:+0200
TZNAME:CEST
DTSTART:20250330T010000
END:DAYLIGHT
BEGIN:STANDARD
TZOFFSETFROM:+0200
TZOFFSETTO:+0100
TZNAME:CET
DTSTART:20251026T010000
END:STANDARD
BEGIN:DAYLIGHT
TZOFFSETFROM:+0100
TZOFFSETTO:+0200
TZNAME:CEST
DTSTART:20260329T010000
END:DAYLIGHT
BEGIN:STANDARD
TZOFFSETFROM:+0200
TZOFFSETTO:+0100
TZNAME:CET
DTSTART:20261025T010000
END:STANDARD
BEGIN:DAYLIGHT
TZOFFSETFROM:+0100
TZOFFSETTO:+0200
TZNAME:CEST
DTSTART:20270328T010000
END:DAYLIGHT
BEGIN:STANDARD
TZOFFSETFROM:+0200
TZOFFSETTO:+0100
TZNAME:CET
DTSTART:20271031T010000
END:STANDARD
END:VTIMEZONE
BEGIN:VEVENT
DTSTART;VALUE=DATE:20251023
DTEND;VALUE=DATE:20251024
DTSTAMP:20260422T001306
CREATED:20250321T162724Z
LAST-MODIFIED:20250606T112047Z
UID:10000008-1761177600-1761263999@www.diab.cz
SUMMARY:Screening rizika syndromu diabetické nohy
DESCRIPTION:čas konání: 8.00 hod (dopolední kurz) / 13.15 hod (odpolední kurz)
URL:https://www.diab.cz/akce/screening-rizika-syndromu-diabeticke-nohy-2/
LOCATION:IKEM • U2\, 3.p.\, budova A\, Vídeňská 1958/9\, Praha 4
CATEGORIES:Obecné,Podiatrická sekce
ATTACH;FMTTYPE=image/jpeg:https://www.diab.cz/wp-content/uploads/2025/03/4825d21241a6d29fbc6043745749e194.jpg
END:VEVENT
BEGIN:VEVENT
DTSTART;VALUE=DATE:20251212
DTEND;VALUE=DATE:20251213
DTSTAMP:20260422T001306
CREATED:20251127T084837Z
LAST-MODIFIED:20251127T084837Z
UID:10000026-1765497600-1765583999@www.diab.cz
SUMMARY:10. Workshop castování
DESCRIPTION:Program: \n\nKomplexní terapie syndromu diabetické nohy se zaměřením na odlehčení\nPraktické aspekty castování\nSpeciální kontaktní fixace (Total Contact Cast – TCC)\nTypy speciálních kontaktních fixací a dlah\, Sarmiento\nProblematika hojení ran se zaměřením na léčbu podtlakem\nPraktická výuka castování
URL:https://www.diab.cz/akce/10-workshop-castovani/
LOCATION:IKEM\, Vídeňská 1958/9\, Praha 4\, Praha\, Hlavní město Praha\, 140 00\, Czech Republic
CATEGORIES:Obecné,Podiatrická sekce
ORGANIZER;CN="Centrum diabetologie IKEM ve spolupr%C3%A1ci s Podiatrickou sekc%C3%AD %C4%8Cesk%C3%A9 diabetologick%C3%A9 spole%C4%8Dnosti %C4%8CLS JEP":MAILTO:podiatrie@ikem.cz
END:VEVENT
BEGIN:VEVENT
DTSTART;VALUE=DATE:20260415
DTEND;VALUE=DATE:20260419
DTSTAMP:20260422T001306
CREATED:20251008T110237Z
LAST-MODIFIED:20260126T121803Z
UID:10000022-1776211200-1776556799@www.diab.cz
SUMMARY:62. diabetologické dny Luhačovice
DESCRIPTION:Registrace: https://www.diadny.cz/registrace/ \nE-mail: registrace@gsymposion.cz \nTelefon: 222 518 535 \n  \nDovolujeme si Vás upozornit na možnost přihlášení k aktivní účasti už jen do 31. ledna 2026.
URL:https://www.diab.cz/akce/62-diabetologicke-dny/
LOCATION:Kulturní a kongresové centrum ELEKTRA\, Masarykova 950\,\, Luhačovice\, 763 26\, Czech Republic
CATEGORIES:Dětská diabetologie,Diabetes a těhotenství,Obecné,Podiatrická sekce,Psychologická sekce,Sekce sester,Technologická sekce
ATTACH;FMTTYPE=image/jpeg:https://www.diab.cz/wp-content/uploads/2025/10/dia-dny-luhacovice.jpg
END:VEVENT
BEGIN:VEVENT
DTSTART;VALUE=DATE:20260529
DTEND;VALUE=DATE:20260530
DTSTAMP:20260422T001306
CREATED:20260122T102553Z
LAST-MODIFIED:20260122T121154Z
UID:10000036-1780012800-1780099199@www.diab.cz
SUMMARY:Syndrom diabetické nohy
DESCRIPTION:
URL:https://www.diab.cz/akce/syndrom-diabeticke-nohy/
LOCATION:Autoklub ČR\, Opletalova 29\, Praha 1\, 110 00\, Czech Republic
CATEGORIES:Podiatrická sekce
ATTACH;FMTTYPE=image/jpeg:https://www.diab.cz/wp-content/uploads/2026/01/syndrom-diabeticke-nohy.jpg
END:VEVENT
BEGIN:VEVENT
DTSTART;VALUE=DATE:20260921
DTEND;VALUE=DATE:20260922
DTSTAMP:20260422T001306
CREATED:20260122T114035Z
LAST-MODIFIED:20260122T114035Z
UID:10000037-1789948800-1790035199@www.diab.cz
SUMMARY:Zdravá noha
DESCRIPTION:
URL:https://www.diab.cz/akce/zdrava-noha/
LOCATION:IKEM\, Vídeňská 1958/9\, Praha 4\, Praha\, Hlavní město Praha\, 140 00\, Czech Republic
CATEGORIES:Podiatrická sekce
ATTACH;FMTTYPE=image/jpeg:https://www.diab.cz/wp-content/uploads/2026/01/zdrava-noha.jpg
ORGANIZER;CN="Academic and Medical Conference Agency (AMCA)":MAILTO:amca@amca.cz
END:VEVENT
END:VCALENDAR